BEGIN:VCALENDAR
VERSION:2.0
PRODID:-//fw4elders.org//NONSGML kigkonsult.se iCalcreator 2.30.10//
CALSCALE:GREGORIAN
METHOD:PUBLISH
UID:a62709fe-ed61-41fd-b229-0077d0a6b053
X-WR-CALDESC:Plan with Purpose: Make-A-Will Workshop  \nA Free Virtual Work
 shop for FriendshipWorks' Community in honor of National Make-A-Will Month
 \n\nWhether you’ve been putting it off or just don’t know where to start\,
  we invite you to join us for a “Make-A-Will” workshop—a supportive\, no-p
 ressure space to learn the basics of will/estate planning. Attorney Julian
 a Hillis from Margolis\, Bloom & D’Agostino will take us through the basic
 s of creating/updating your will\, and provide guidance to help you take t
 he next step toward peace of mind and purpose. You’ll also get practical t
 ips on how to reflect your values and legacy in your plans too. Presentati
 on will include a 15 minute Q&A for participants. Feel free to send your q
 uestions in advance to pcatalano@fw4elders.org.
X-WR-RELCALID:527f0047280a9f98b2d92c7fde97265d
X-WR-TIMEZONE:America/New_York
BEGIN:VTIMEZONE
TZID:America/New_York
BEGIN:STANDARD
TZNAME:EST
DTSTART:20241103T020000
TZOFFSETFROM:-0400
TZOFFSETTO:-0500
RDATE:20251102T020000
RDATE:20261101T020000
END:STANDARD
BEGIN:DAYLIGHT
TZNAME:EDT
DTSTART:20250309T020000
TZOFFSETFROM:-0500
TZOFFSETTO:-0400
RDATE:20260308T020000
END:DAYLIGHT
END:VTIMEZONE
BEGIN:VEVENT
UID:70041301-c3bd-4ae7-972e-011822fbccc9
DTSTAMP:20260423T175800Z
DESCRIPTION:Plan with Purpose: Make-A-Will Workshop  \nA Free Virtual Works
 hop for FriendshipWorks' Community in honor of National Make-A-Will Month
 \n\nWhether you’ve been putting it off or just don’t know where to start\,
  we invite you to join us for a “Make-A-Will” workshop—a supportive\, no-p
 ressure space to learn the basics of will/estate planning. Attorney Julian
 a Hillis from Margolis\, Bloom & D’Agostino will take us through the basic
 s of creating/updating your will\, and provide guidance to help you take t
 he next step toward peace of mind and purpose. You’ll also get practical t
 ips on how to reflect your values and legacy in your plans too. Presentati
 on will include a 15 minute Q&A for participants. Feel free to send your q
 uestions in advance to pcatalano@fw4elders.org.
DTSTART;TZID=America/New_York:20250812T180000
DTEND;TZID=America/New_York:20250812T190000
LOCATION:This is a Virtual Event. A Zoom link will be sent to all registere
 d attendees.
SUMMARY:Plan with Purpose: Make-A-Will Workshop
END:VEVENT
END:VCALENDAR
