BEGIN:VCALENDAR
VERSION:2.0
PRODID:-//fw4elders.org//NONSGML kigkonsult.se iCalcreator 2.30.10//
CALSCALE:GREGORIAN
METHOD:PUBLISH
UID:3561b768-42a5-48ba-a706-d95836751758
X-WR-CALDESC:We're guessing you might be a little tired of the chaos that G
 iving Tuesday creates — the endless emails\, the scrolling\, the hype\, th
 e noise. So this year\, we invite you to slow down\, gather with friends\,
  and do something more meaningful. Let's turn the friendzy of this global 
 day into a friendly neighborhood potluck/house crawl\, cocktail hour\, int
 imate dinner party\, or game night — and help raise awareness and funds fo
 r FriendshipWorks and our mission to end elder isolation.\n\nYou set the v
 ibe\, invite your friends\, and share why friendship and connection matter
  in your community. We’ll provide everything you need to make it easy and 
 impactful: digital invites\, talking points\, donation links\, and ideas t
 o get guests engaged and in the giving spirit.\n\n✨ Don’t forget to snap a
 nd share your photos of food\, fun\, and friendship — tag us on social med
 ia to spread the joy! Let’s make this Giving Tuesday one to remember — one
  gathering at a time.
X-WR-RELCALID:58c15e3c02d911ea8f9750b08933ecb1
X-WR-TIMEZONE:America/New_York
BEGIN:VTIMEZONE
TZID:America/New_York
BEGIN:STANDARD
TZNAME:EST
DTSTART:20251102T020000
TZOFFSETFROM:-0400
TZOFFSETTO:-0500
RDATE:20261101T020000
END:STANDARD
BEGIN:DAYLIGHT
TZNAME:EDT
DTSTART:20250309T020000
TZOFFSETFROM:-0500
TZOFFSETTO:-0400
RDATE:20260308T020000
RDATE:20270314T020000
END:DAYLIGHT
END:VTIMEZONE
BEGIN:VEVENT
UID:ade5f19e-ada3-4f33-a4da-3fe446a3a4d1
DTSTAMP:20260423T175204Z
DESCRIPTION:We're guessing you might be a little tired of the chaos that Gi
 ving Tuesday creates — the endless emails\, the scrolling\, the hype\, the
  noise. So this year\, we invite you to slow down\, gather with friends\, 
 and do something more meaningful. Let's turn the friendzy of this global d
 ay into a friendly neighborhood potluck/house crawl\, cocktail hour\, inti
 mate dinner party\, or game night — and help raise awareness and funds for
  FriendshipWorks and our mission to end elder isolation.\n\nYou set the vi
 be\, invite your friends\, and share why friendship and connection matter 
 in your community. We’ll provide everything you need to make it easy and i
 mpactful: digital invites\, talking points\, donation links\, and ideas to
  get guests engaged and in the giving spirit.\n\n✨ Don’t forget to snap an
 d share your photos of food\, fun\, and friendship — tag us on social medi
 a to spread the joy! Let’s make this Giving Tuesday one to remember — one 
 gathering at a time.
DTSTART;TZID=America/New_York:20251202T060000
DTEND;TZID=America/New_York:20251202T060001
LOCATION:Your Location
SUMMARY:Host. Toast. Give. Giving Tuesday Celebration
END:VEVENT
END:VCALENDAR
