BEGIN:VCALENDAR
VERSION:2.0
PRODID:-//fw4elders.org//NONSGML kigkonsult.se iCalcreator 2.30.10//
CALSCALE:GREGORIAN
METHOD:PUBLISH
UID:854cf80d-7a6c-4bf8-aa5c-faf91c7391eb
X-WR-CALDESC:Join FriendshipWorks for a soulful night of live music and com
 munity connection at our signature spring event! Enjoy the smooth sounds o
 f Safiya Leslie\, the talented vocalist and Manager of our MusicWorks Prog
 ram\, as she lights up the stage. \n\nThis free event is part of the Thurs
 days Jazz Night series at Long Live Roxbury Brewery & Taproom\, and is all
  about good music\, good company\, and good vibes—all in support of buildi
 ng a more connected Boston. (Craft brews\, seltzers\, non-alchoholic bever
 ages and food are available for purchase.) \n\nThis event is FREE for all 
 members of the FriendshipWorks community\, is a special appreciation event
  for our volunteers\, and is open to the public – so invite your friends a
 nd family!\n\nPLEASE REGISTER so we know you are attending. \n\nGoddard Ho
 use Community Initiatives is a founding partner and sponsor of the Friends
 hipWorks MusicWorks program.
X-WR-RELCALID:8dcc9c0a7eabd2a41c1314d0663334a0
X-WR-TIMEZONE:America/New_York
BEGIN:VTIMEZONE
TZID:America/New_York
BEGIN:STANDARD
TZNAME:EST
DTSTART:20251102T020000
TZOFFSETFROM:-0400
TZOFFSETTO:-0500
RDATE:20261101T020000
END:STANDARD
BEGIN:DAYLIGHT
TZNAME:EDT
DTSTART:20250309T020000
TZOFFSETFROM:-0500
TZOFFSETTO:-0400
RDATE:20260308T020000
RDATE:20270314T020000
END:DAYLIGHT
END:VTIMEZONE
BEGIN:VEVENT
UID:c74ecdac-e427-4471-b680-f30b9689a071
DTSTAMP:20260423T162252Z
DESCRIPTION:Join FriendshipWorks for a soulful night of live music and comm
 unity connection at our signature spring event! Enjoy the smooth sounds of
  Safiya Leslie\, the talented vocalist and Manager of our MusicWorks Progr
 am\, as she lights up the stage. \n\nThis free event is part of the Thursd
 ays Jazz Night series at Long Live Roxbury Brewery & Taproom\, and is all 
 about good music\, good company\, and good vibes—all in support of buildin
 g a more connected Boston. (Craft brews\, seltzers\, non-alchoholic bevera
 ges and food are available for purchase.) \n\nThis event is FREE for all m
 embers of the FriendshipWorks community\, is a special appreciation event 
 for our volunteers\, and is open to the public – so invite your friends an
 d family!\n\nPLEASE REGISTER so we know you are attending. \n\nGoddard Hou
 se Community Initiatives is a founding partner and sponsor of the Friendsh
 ipWorks MusicWorks program.
DTSTART;TZID=America/New_York:20260305T180000
DTEND;TZID=America/New_York:20260305T210000
LOCATION:Long Live Roxbury Brewery & Taproom\, 152 Hampden Street\, Boston\
 , MA 02119 US
SUMMARY:🎷Rhythm & Brews: A Jazzed-Up Evening with Safiya Leslie 🎶
END:VEVENT
END:VCALENDAR
